Package: GenomeInfoDb Version: 1.43.4 Command: /home/biocbuild/R/R/bin/R CMD INSTALL GenomeInfoDb StartedAt: 2025-01-29 19:36:42 -0000 (Wed, 29 Jan 2025) EndedAt: 2025-01-29 19:37:03 -0000 (Wed, 29 Jan 2025) EllapsedTime: 20.4 seconds RetCode: 0 Status: OK