Package: GenomeInfoDb Version: 1.43.4 Command: /home/biocbuild/R/R/bin/R CMD build --keep-empty-dirs --no-resave-data GenomeInfoDb StartedAt: 2025-01-28 23:06:02 -0000 (Tue, 28 Jan 2025) EndedAt: 2025-01-28 23:06:43 -0000 (Tue, 28 Jan 2025) EllapsedTime: 41.0 seconds RetCode: 0 Status: OK PackageFile: GenomeInfoDb_1.43.4.tar.gz PackageFileSize: 3.436 MiB