Package: GenomeInfoDb Version: 1.43.4 Command: /Library/Frameworks/R.framework/Resources/bin/R CMD INSTALL GenomeInfoDb StartedAt: 2025-02-18 15:03:52 -0500 (Tue, 18 Feb 2025) EndedAt: 2025-02-18 15:03:57 -0500 (Tue, 18 Feb 2025) EllapsedTime: 5.2 seconds RetCode: 0 Status: OK