Package: GenomeInfoDb Version: 1.43.4 Command: /Library/Frameworks/R.framework/Resources/bin/R CMD build --keep-empty-dirs --no-resave-data GenomeInfoDb StartedAt: 2025-02-18 16:25:51 -0500 (Tue, 18 Feb 2025) EndedAt: 2025-02-18 16:26:05 -0500 (Tue, 18 Feb 2025) EllapsedTime: 14.2 seconds RetCode: 0 Status: OK PackageFile: GenomeInfoDb_1.43.4.tar.gz PackageFileSize: 3.419 MiB