Package: GenomeInfoDb Version: 1.43.4 Command: rm -rf GenomeInfoDb.buildbin-libdir && mkdir GenomeInfoDb.buildbin-libdir && /Users/biocbuild/BBS/utils/build-universal.sh GenomeInfoDb_1.43.4.tar.gz /Library/Frameworks/R.framework/Resources/bin/R GenomeInfoDb.buildbin-libdir StartedAt: 2025-02-18 22:22:49 -0500 (Tue, 18 Feb 2025) EndedAt: 2025-02-18 22:22:55 -0500 (Tue, 18 Feb 2025) EllapsedTime: 6.1 seconds RetCode: 0 Status: OK PackageFile: GenomeInfoDb_1.43.4.tgz PackageFileSize: 3.984 MiB