Package: GeneticsPed Version: 1.69.0 Command: E:\biocbuild\bbs-3.21-bioc\R\bin\R.exe CMD INSTALL GeneticsPed StartedAt: 2025-02-20 15:20:29 -0500 (Thu, 20 Feb 2025) EndedAt: 2025-02-20 15:20:45 -0500 (Thu, 20 Feb 2025) EllapsedTime: 16.8 seconds RetCode: 1 Status: ERROR