Package: GeneticsPed Version: 1.69.0 Command: /home/biocbuild/bbs-3.21-bioc/R/bin/R CMD INSTALL GeneticsPed StartedAt: 2025-02-20 15:07:10 -0500 (Thu, 20 Feb 2025) EndedAt: 2025-02-20 15:07:24 -0500 (Thu, 20 Feb 2025) EllapsedTime: 13.9 seconds RetCode: 0 Status: OK