Package: GeneticsPed Version: 1.69.0 Command: /home/biocbuild/bbs-3.21-bioc/R/bin/R CMD check --install=check:GeneticsPed.install-out.txt --library=/home/biocbuild/bbs-3.21-bioc/R/site-library --timings GeneticsPed_1.69.0.tar.gz StartedAt: 2025-02-20 22:14:43 -0500 (Thu, 20 Feb 2025) EndedAt: 2025-02-20 22:15:14 -0500 (Thu, 20 Feb 2025) EllapsedTime: 31.0 seconds RetCode: 0 Status: WARNINGS CheckDir: GeneticsPed.Rcheck Warnings: 1