Package: GeneticsPed Version: 1.69.0 Command: /home/biocbuild/bbs-3.21-bioc/R/bin/R CMD build --keep-empty-dirs --no-resave-data GeneticsPed StartedAt: 2025-02-20 17:33:21 -0500 (Thu, 20 Feb 2025) EndedAt: 2025-02-20 17:33:44 -0500 (Thu, 20 Feb 2025) EllapsedTime: 23.1 seconds RetCode: 0 Status: OK PackageFile: GeneticsPed_1.69.0.tar.gz PackageFileSize: 672.7 KiB