Package: GeneticsPed Version: 1.69.0 Command: /Library/Frameworks/R.framework/Resources/bin/R CMD build --keep-empty-dirs --no-resave-data GeneticsPed StartedAt: 2025-02-20 16:47:11 -0500 (Thu, 20 Feb 2025) EndedAt: 2025-02-20 16:47:23 -0500 (Thu, 20 Feb 2025) EllapsedTime: 12.6 seconds RetCode: 1 Status: ERROR PackageFile: None PackageFileSize: NA