Package: GeneticsPed Version: 1.69.0 Command: /Library/Frameworks/R.framework/Resources/bin/R CMD INSTALL GeneticsPed StartedAt: 2025-02-20 15:02:28 -0500 (Thu, 20 Feb 2025) EndedAt: 2025-02-20 15:02:34 -0500 (Thu, 20 Feb 2025) EllapsedTime: 5.9 seconds RetCode: 1 Status: ERROR