Package: GeneTonic Version: 3.1.2 Command: E:\biocbuild\bbs-3.21-bioc\R\bin\R.exe CMD INSTALL GeneTonic StartedAt: 2025-02-20 16:45:01 -0500 (Thu, 20 Feb 2025) EndedAt: 2025-02-20 16:46:43 -0500 (Thu, 20 Feb 2025) EllapsedTime: 101.8 seconds RetCode: 0 Status: OK