Package: GeneTonic Version: 3.1.2 Command: chmod a+r GeneTonic -R && E:\biocbuild\bbs-3.21-bioc\R\bin\R.exe CMD build --keep-empty-dirs --no-resave-data GeneTonic StartedAt: 2025-02-20 18:55:56 -0500 (Thu, 20 Feb 2025) EndedAt: 2025-02-20 18:58:57 -0500 (Thu, 20 Feb 2025) EllapsedTime: 180.2 seconds RetCode: 0 Status: OK PackageFile: GeneTonic_3.1.2.tar.gz PackageFileSize: 7.548 MiB