Package: GeneTonic Version: 3.1.2 Command: rm -rf GeneTonic.buildbin-libdir && mkdir GeneTonic.buildbin-libdir && E:\biocbuild\bbs-3.21-bioc\R\bin\R.exe CMD INSTALL --build --library=GeneTonic.buildbin-libdir GeneTonic_3.1.2.tar.gz StartedAt: 2025-02-21 08:09:51 -0500 (Fri, 21 Feb 2025) EndedAt: 2025-02-21 08:11:13 -0500 (Fri, 21 Feb 2025) EllapsedTime: 82.0 seconds RetCode: 0 Status: OK PackageFile: GeneTonic_3.1.2.zip PackageFileSize: 7.66 MiB