Package: GeneTonic Version: 3.1.2 Command: /home/biocbuild/bbs-3.21-bioc/R/bin/R CMD check --install=check:GeneTonic.install-out.txt --library=/home/biocbuild/bbs-3.21-bioc/R/site-library --timings GeneTonic_3.1.2.tar.gz StartedAt: 2025-02-20 22:14:51 -0500 (Thu, 20 Feb 2025) EndedAt: 2025-02-20 22:26:51 -0500 (Thu, 20 Feb 2025) EllapsedTime: 720.0 seconds RetCode: 0 Status: OK CheckDir: GeneTonic.Rcheck Warnings: 0