Package: GeneStructureTools Version: 1.27.0 Command: E:\biocbuild\bbs-3.21-bioc\R\bin\R.exe CMD INSTALL GeneStructureTools StartedAt: 2025-02-20 16:41:19 -0500 (Thu, 20 Feb 2025) EndedAt: 2025-02-20 16:42:30 -0500 (Thu, 20 Feb 2025) EllapsedTime: 70.9 seconds RetCode: 0 Status: OK