Package: GeneStructureTools Version: 1.27.0 Command: rm -rf GeneStructureTools.buildbin-libdir && mkdir GeneStructureTools.buildbin-libdir && E:\biocbuild\bbs-3.21-bioc\R\bin\R.exe CMD INSTALL --build --library=GeneStructureTools.buildbin-libdir GeneStructureTools_1.27.0.tar.gz StartedAt: 2025-02-20 07:51:22 -0500 (Thu, 20 Feb 2025) EndedAt: 2025-02-20 07:53:04 -0500 (Thu, 20 Feb 2025) EllapsedTime: 102.0 seconds RetCode: 0 Status: OK PackageFile: GeneStructureTools_1.27.0.zip PackageFileSize: 1.669 MiB