Package: GeneStructureTools Version: 1.27.0 Command: /home/biocbuild/bbs-3.21-bioc/R/bin/R CMD build --keep-empty-dirs --no-resave-data GeneStructureTools StartedAt: 2025-02-19 17:21:26 -0500 (Wed, 19 Feb 2025) EndedAt: 2025-02-19 17:23:50 -0500 (Wed, 19 Feb 2025) EllapsedTime: 144.2 seconds RetCode: 0 Status: OK PackageFile: GeneStructureTools_1.27.0.tar.gz PackageFileSize: 2.822 MiB