Package: GeneStructureTools Version: 1.27.0 Command: /Library/Frameworks/R.framework/Resources/bin/R CMD INSTALL GeneStructureTools StartedAt: 2025-02-20 15:28:38 -0500 (Thu, 20 Feb 2025) EndedAt: 2025-02-20 15:29:45 -0500 (Thu, 20 Feb 2025) EllapsedTime: 66.4 seconds RetCode: 0 Status: OK