Package: GeneStructureTools Version: 1.27.0 Command: /home/biocbuild/R/R/bin/R CMD INSTALL GeneStructureTools StartedAt: 2025-01-29 20:11:31 -0000 (Wed, 29 Jan 2025) EndedAt: 2025-01-29 20:12:44 -0000 (Wed, 29 Jan 2025) EllapsedTime: 72.6 seconds RetCode: 0 Status: OK