Package: GeneStructureTools Version: 1.27.0 Command: /Library/Frameworks/R.framework/Resources/bin/R CMD INSTALL GeneStructureTools StartedAt: 2025-02-20 15:17:44 -0500 (Thu, 20 Feb 2025) EndedAt: 2025-02-20 15:18:03 -0500 (Thu, 20 Feb 2025) EllapsedTime: 19.6 seconds RetCode: 0 Status: OK