Package: GeneStructureTools Version: 1.27.0 Command: /Library/Frameworks/R.framework/Resources/bin/R CMD check --install=check:GeneStructureTools.install-out.txt --library=/Library/Frameworks/R.framework/Resources/library --no-vignettes --timings GeneStructureTools_1.27.0.tar.gz StartedAt: 2025-02-20 19:24:25 -0500 (Thu, 20 Feb 2025) EndedAt: 2025-02-20 19:26:49 -0500 (Thu, 20 Feb 2025) EllapsedTime: 143.7 seconds RetCode: 0 Status: OK CheckDir: GeneStructureTools.Rcheck Warnings: 0