Package: GeneSelectMMD Version: 2.51.0 Command: E:\biocbuild\bbs-3.21-bioc\R\bin\R.exe CMD INSTALL GeneSelectMMD StartedAt: 2025-02-20 15:25:35 -0500 (Thu, 20 Feb 2025) EndedAt: 2025-02-20 15:25:55 -0500 (Thu, 20 Feb 2025) EllapsedTime: 20.5 seconds RetCode: 0 Status: OK