Package: GeneSelectMMD Version: 2.51.0 Command: chmod a+r GeneSelectMMD -R && E:\biocbuild\bbs-3.21-bioc\R\bin\R.exe CMD build --keep-empty-dirs --no-resave-data GeneSelectMMD StartedAt: 2025-02-20 18:55:28 -0500 (Thu, 20 Feb 2025) EndedAt: 2025-02-20 18:55:56 -0500 (Thu, 20 Feb 2025) EllapsedTime: 27.5 seconds RetCode: 0 Status: OK PackageFile: GeneSelectMMD_2.51.0.tar.gz PackageFileSize: 311.8 KiB