Package: GeneSelectMMD Version: 2.51.0 Command: /home/biocbuild/bbs-3.21-bioc/R/bin/R CMD build --keep-empty-dirs --no-resave-data GeneSelectMMD StartedAt: 2025-02-20 17:33:08 -0500 (Thu, 20 Feb 2025) EndedAt: 2025-02-20 17:33:21 -0500 (Thu, 20 Feb 2025) EllapsedTime: 13.0 seconds RetCode: 0 Status: OK PackageFile: GeneSelectMMD_2.51.0.tar.gz PackageFileSize: 454.8 KiB