Package: GeneSelectMMD Version: 2.51.0 Command: /Library/Frameworks/R.framework/Resources/bin/R CMD INSTALL GeneSelectMMD StartedAt: 2025-02-21 15:07:25 -0500 (Fri, 21 Feb 2025) EndedAt: 2025-02-21 15:08:01 -0500 (Fri, 21 Feb 2025) EllapsedTime: 36.4 seconds RetCode: 0 Status: OK