Package: GeneRegionScan Version: 1.63.0 Command: /Library/Frameworks/R.framework/Resources/bin/R CMD check --install=check:GeneRegionScan.install-out.txt --library=/Library/Frameworks/R.framework/Resources/library --no-vignettes --timings GeneRegionScan_1.63.0.tar.gz StartedAt: 2025-02-20 19:24:10 -0500 (Thu, 20 Feb 2025) EndedAt: 2025-02-20 19:25:00 -0500 (Thu, 20 Feb 2025) EllapsedTime: 49.6 seconds RetCode: 0 Status: OK CheckDir: GeneRegionScan.Rcheck Warnings: 0