Package: GeneOverlap Version: 1.43.0 Command: /Library/Frameworks/R.framework/Resources/bin/R CMD check --install=check:GeneOverlap.install-out.txt --library=/Library/Frameworks/R.framework/Resources/library --no-vignettes --timings GeneOverlap_1.43.0.tar.gz StartedAt: 2025-02-18 20:31:53 -0500 (Tue, 18 Feb 2025) EndedAt: 2025-02-18 20:32:28 -0500 (Tue, 18 Feb 2025) EllapsedTime: 34.7 seconds RetCode: 0 Status: OK CheckDir: GeneOverlap.Rcheck Warnings: 0