Package: GeneOverlap Version: 1.43.0 Command: /Library/Frameworks/R.framework/Resources/bin/R CMD build --keep-empty-dirs --no-resave-data GeneOverlap StartedAt: 2025-02-18 16:45:33 -0500 (Tue, 18 Feb 2025) EndedAt: 2025-02-18 16:45:47 -0500 (Tue, 18 Feb 2025) EllapsedTime: 13.7 seconds RetCode: 0 Status: OK PackageFile: GeneOverlap_1.43.0.tar.gz PackageFileSize: 361.1 KiB