Package: GeneOverlap Version: 1.43.0 Command: /Library/Frameworks/R.framework/Resources/bin/R CMD check --install=check:GeneOverlap.install-out.txt --library=/Library/Frameworks/R.framework/Resources/library --no-vignettes --timings GeneOverlap_1.43.0.tar.gz StartedAt: 2025-02-19 19:25:46 -0500 (Wed, 19 Feb 2025) EndedAt: 2025-02-19 19:25:59 -0500 (Wed, 19 Feb 2025) EllapsedTime: 13.2 seconds RetCode: 0 Status: OK CheckDir: GeneOverlap.Rcheck Warnings: 0