Package: GeneNetworkBuilder Version: 1.49.1 Command: E:\biocbuild\bbs-3.21-bioc\R\bin\R.exe CMD check --no-multiarch --install=check:GeneNetworkBuilder.install-out.txt --library=E:\biocbuild\bbs-3.21-bioc\R\library --no-vignettes --timings GeneNetworkBuilder_1.49.1.tar.gz StartedAt: 2025-02-21 01:38:32 -0500 (Fri, 21 Feb 2025) EndedAt: 2025-02-21 01:40:29 -0500 (Fri, 21 Feb 2025) EllapsedTime: 116.5 seconds RetCode: 0 Status: OK CheckDir: GeneNetworkBuilder.Rcheck Warnings: 0