Package: GeneNetworkBuilder Version: 1.49.1 Command: rm -rf GeneNetworkBuilder.buildbin-libdir && mkdir GeneNetworkBuilder.buildbin-libdir && E:\biocbuild\bbs-3.21-bioc\R\bin\R.exe CMD INSTALL --build --library=GeneNetworkBuilder.buildbin-libdir GeneNetworkBuilder_1.49.1.tar.gz StartedAt: 2025-02-21 08:09:16 -0500 (Fri, 21 Feb 2025) EndedAt: 2025-02-21 08:10:20 -0500 (Fri, 21 Feb 2025) EllapsedTime: 64.7 seconds RetCode: 0 Status: OK PackageFile: GeneNetworkBuilder_1.49.1.zip PackageFileSize: 7.473 MiB