Package: GeneNetworkBuilder Version: 1.49.1 Command: /Library/Frameworks/R.framework/Resources/bin/R CMD build --keep-empty-dirs --no-resave-data GeneNetworkBuilder StartedAt: 2025-02-19 16:25:24 -0500 (Wed, 19 Feb 2025) EndedAt: 2025-02-19 16:29:01 -0500 (Wed, 19 Feb 2025) EllapsedTime: 217.2 seconds RetCode: 0 Status: OK PackageFile: GeneNetworkBuilder_1.49.1.tar.gz PackageFileSize: 7.391 MiB