Package: GeneMeta Version: 1.79.0 Command: /home/biocbuild/bbs-3.21-bioc/R/bin/R CMD build --keep-empty-dirs --no-resave-data GeneMeta StartedAt: 2025-02-19 17:20:41 -0500 (Wed, 19 Feb 2025) EndedAt: 2025-02-19 17:21:13 -0500 (Wed, 19 Feb 2025) EllapsedTime: 32.0 seconds RetCode: 0 Status: OK PackageFile: GeneMeta_1.79.0.tar.gz PackageFileSize: 2.704 MiB