Package: GeneMeta Version: 1.79.0 Command: /Library/Frameworks/R.framework/Resources/bin/R CMD check --install=check:GeneMeta.install-out.txt --library=/Library/Frameworks/R.framework/Resources/library --no-vignettes --timings GeneMeta_1.79.0.tar.gz StartedAt: 2025-02-20 19:23:53 -0500 (Thu, 20 Feb 2025) EndedAt: 2025-02-20 19:24:23 -0500 (Thu, 20 Feb 2025) EllapsedTime: 30.4 seconds RetCode: 0 Status: OK CheckDir: GeneMeta.Rcheck Warnings: 0