Package: GeneGeneInteR Version: 1.33.0 Command: E:\biocbuild\bbs-3.21-bioc\R\bin\R.exe CMD INSTALL GeneGeneInteR StartedAt: 2025-02-20 16:00:40 -0500 (Thu, 20 Feb 2025) EndedAt: 2025-02-20 16:00:44 -0500 (Thu, 20 Feb 2025) EllapsedTime: 3.8 seconds RetCode: 1 Status: ERROR