Package: GeneGeneInteR Version: 1.33.0 Command: E:\biocbuild\bbs-3.21-bioc\R\bin\R.exe CMD check --no-multiarch --install=check:GeneGeneInteR.install-out.txt --library=E:\biocbuild\bbs-3.21-bioc\R\library --no-vignettes --timings GeneGeneInteR_1.33.0.tar.gz StartedAt: 2025-01-22 01:26:02 -0500 (Wed, 22 Jan 2025) EndedAt: 2025-01-22 01:29:12 -0500 (Wed, 22 Jan 2025) EllapsedTime: 190.0 seconds RetCode: 0 Status: OK CheckDir: GeneGeneInteR.Rcheck Warnings: 0