Package: GeneGeneInteR Version: 1.33.0 Command: chmod a+r GeneGeneInteR -R && E:\biocbuild\bbs-3.21-bioc\R\bin\R.exe CMD build --keep-empty-dirs --no-resave-data GeneGeneInteR StartedAt: 2025-02-20 18:54:47 -0500 (Thu, 20 Feb 2025) EndedAt: 2025-02-20 18:54:52 -0500 (Thu, 20 Feb 2025) EllapsedTime: 4.8 seconds RetCode: 1 Status: ERROR PackageFile: None PackageFileSize: NA