Package: GeneGeneInteR Version: 1.33.0 Command: /Library/Frameworks/R.framework/Resources/bin/R CMD build --keep-empty-dirs --no-resave-data GeneGeneInteR StartedAt: 2025-02-20 16:46:31 -0500 (Thu, 20 Feb 2025) EndedAt: 2025-02-20 16:46:33 -0500 (Thu, 20 Feb 2025) EllapsedTime: 2.3 seconds RetCode: 1 Status: ERROR PackageFile: None PackageFileSize: NA