Package: GeneGA Version: 1.57.0 Command: /home/biocbuild/bbs-3.21-bioc/R/bin/R CMD check --install=check:GeneGA.install-out.txt --library=/home/biocbuild/bbs-3.21-bioc/R/site-library --timings GeneGA_1.57.0.tar.gz StartedAt: 2025-02-20 22:12:59 -0500 (Thu, 20 Feb 2025) EndedAt: 2025-02-20 22:15:35 -0500 (Thu, 20 Feb 2025) EllapsedTime: 156.3 seconds RetCode: 0 Status: OK CheckDir: GeneGA.Rcheck Warnings: 0