Package: GeneGA Version: 1.57.0 Command: /Library/Frameworks/R.framework/Resources/bin/R CMD INSTALL GeneGA StartedAt: 2025-02-21 15:08:20 -0500 (Fri, 21 Feb 2025) EndedAt: 2025-02-21 15:08:42 -0500 (Fri, 21 Feb 2025) EllapsedTime: 22.5 seconds RetCode: 0 Status: OK