Package: GeneGA Version: 1.57.0 Command: /Library/Frameworks/R.framework/Resources/bin/R CMD build --keep-empty-dirs --no-resave-data GeneGA StartedAt: 2025-02-20 16:46:27 -0500 (Thu, 20 Feb 2025) EndedAt: 2025-02-20 16:49:12 -0500 (Thu, 20 Feb 2025) EllapsedTime: 164.9 seconds RetCode: 0 Status: OK PackageFile: GeneGA_1.57.0.tar.gz PackageFileSize: 228.4 KiB