Package: GeneExpressionSignature Version: 1.53.0 Command: chmod a+r GeneExpressionSignature -R && E:\biocbuild\bbs-3.21-bioc\R\bin\R.exe CMD build --keep-empty-dirs --no-resave-data GeneExpressionSignature StartedAt: 2025-02-20 18:54:32 -0500 (Thu, 20 Feb 2025) EndedAt: 2025-02-20 18:55:12 -0500 (Thu, 20 Feb 2025) EllapsedTime: 39.8 seconds RetCode: 0 Status: OK PackageFile: GeneExpressionSignature_1.53.0.tar.gz PackageFileSize: 2.545 MiB