Package: GeneExpressionSignature Version: 1.53.0 Command: /home/biocbuild/bbs-3.21-bioc/R/bin/R CMD INSTALL GeneExpressionSignature StartedAt: 2025-02-19 15:13:13 -0500 (Wed, 19 Feb 2025) EndedAt: 2025-02-19 15:13:16 -0500 (Wed, 19 Feb 2025) EllapsedTime: 3.1 seconds RetCode: 0 Status: OK