Package: GeneExpressionSignature Version: 1.53.0 Command: /Library/Frameworks/R.framework/Resources/bin/R CMD INSTALL GeneExpressionSignature StartedAt: 2025-02-20 15:06:11 -0500 (Thu, 20 Feb 2025) EndedAt: 2025-02-20 15:06:32 -0500 (Thu, 20 Feb 2025) EllapsedTime: 20.8 seconds RetCode: 0 Status: OK