Package: GeneBreak Version: 1.37.0 Command: /home/biocbuild/bbs-3.21-bioc/R/bin/R CMD INSTALL GeneBreak StartedAt: 2025-02-20 15:25:31 -0500 (Thu, 20 Feb 2025) EndedAt: 2025-02-20 15:25:48 -0500 (Thu, 20 Feb 2025) EllapsedTime: 17.0 seconds RetCode: 0 Status: OK