Package: GeneBreak Version: 1.37.0 Command: /Library/Frameworks/R.framework/Resources/bin/R CMD INSTALL GeneBreak StartedAt: 2025-02-20 15:16:30 -0500 (Thu, 20 Feb 2025) EndedAt: 2025-02-20 15:16:57 -0500 (Thu, 20 Feb 2025) EllapsedTime: 26.5 seconds RetCode: 0 Status: OK