Package: GeneBreak Version: 1.37.0 Command: rm -rf GeneBreak.buildbin-libdir && mkdir GeneBreak.buildbin-libdir && /Users/biocbuild/BBS/utils/build-universal.sh GeneBreak_1.37.0.tar.gz /Library/Frameworks/R.framework/Resources/bin/R GeneBreak.buildbin-libdir StartedAt: 2025-02-20 22:19:54 -0500 (Thu, 20 Feb 2025) EndedAt: 2025-02-20 22:20:01 -0500 (Thu, 20 Feb 2025) EllapsedTime: 7.2 seconds RetCode: 0 Status: OK PackageFile: GeneBreak_1.37.0.tgz PackageFileSize: 4.579 MiB