Package: GenVisR Version: 1.39.0 Command: E:\biocbuild\bbs-3.21-bioc\R\bin\R.exe CMD check --no-multiarch --install=check:GenVisR.install-out.txt --library=E:\biocbuild\bbs-3.21-bioc\R\library --no-vignettes --timings GenVisR_1.39.0.tar.gz StartedAt: 2025-02-20 01:32:59 -0500 (Thu, 20 Feb 2025) EndedAt: 2025-02-20 01:42:45 -0500 (Thu, 20 Feb 2025) EllapsedTime: 585.0 seconds RetCode: 0 Status: OK CheckDir: GenVisR.Rcheck Warnings: 0