Package: GeDi Version: 1.3.0 Command: E:\biocbuild\bbs-3.21-bioc\R\bin\R.exe CMD INSTALL GeDi StartedAt: 2025-02-19 16:46:40 -0500 (Wed, 19 Feb 2025) EndedAt: 2025-02-19 16:47:56 -0500 (Wed, 19 Feb 2025) EllapsedTime: 76.1 seconds RetCode: 0 Status: OK